Workbook

Sheet Instructions
A1: How to complete this form
A2: 1 | B2: The information at the top of the Sample Details page is used to assign the samples to your account, and send your results and invoice. It is important that you provide a current email address and phone number so that we can contact you.
A3: 2 | B3: The details for the Order Summary should summarise the information about the samples. Use the drop down menu in the 'Test Required' cell to select the test that is to be performed.
A4: 3 | B4: The details of the animals from which samples were taken should be entered into the samples details section. It is imperitive that the barcode information and the animal ID details are correct and that ALL the information requested on the form is included. These details get uploaded to our management system exactly as they are provided.
A5: 4 | B5: If some samples require extra types of analysis in addition to the test selected in the Order Summary, use the Extra Analysis 1 and Extra Analysis 2 columns to select the tests for those samples.
A6: 5 | B6: IF REQUESTING PARENT VERIFICATION: If you wish to run parent verification on new samples, ensure that the 'Animal Type' cell is completed for each sample in the Sample Details tab. Note that any animal assigned "P" will receive a parent verification result. Those marked "S" and "D" will be used as possible parents for the progeny. If you require parent verification for animals that could also be sires or dams of animals being tested in the project, please assign "P/S" or "P/D". If you wish to run parent verification against sires or dams that have been previously tested, complete the details in tabs called 'Nominated SIRE list' (green tab) or 'Nominated DAM list' (purple tab). It is important that the correct Animal ID and Xytovet Sample ID are entered. Please note that animals should be assigned as progeny for their pedigree details to be found.
A7: 6 | B7: Email this form to samples@xytovet.com.au when you send your samples. XytoVet will not process your samples without an electronic copy of this form. Ensure you include your name on the samples when you post them to us so that we can identify who they belong to!
A9: TEST DESCRIPTIONS
A10: Click to Select Test
A11: Australian Gelbvieh Association Bundle (Genomics, Parent Verification, Poll, Coat) | B11: This is a special testing bundle for AGA members. Results include ASBVs, Parent Verification, Horn/Poll and Coat Colour. Nominated sire and dam lists must be completed for PV.
A12: Genomic 50K | B12: Results include breeding values only
A13: Parent Verification Only | B13: Results include parent verification. Nominated sire and dam lists must be completed for PV.
A14: BVDV | B14: This is a standalone test for Bovine Viral Diarrhoea Virus (Pestivirus)
A15: Bovine Poll | B15: This is a standalone test for Poll/Horn only.
A16: Black Coat Colour | B16: This is a standalone test for Coat Colour only. Determines red or black coat.

Sheet Sample Details
A1: #VALUE! | C1: XYTOVET BOVINE DNA REQUEST FORM | I1: #VALUE! | BB1: GelbviehV1
A2: Member Information | E2: Billing Information | H2: Sample Information
A3: Property/Stud Name: | E3: Account Name: | F3: Australian Gelbvieh Association Inc. | H3: Project Name:
A4: Member Name: | E4: Billing Address: | F4: Building 3, Room 314 (PO Box U66) | H4: Consultant:
A5: Member Address: | F5: Nathan Cobb Drive, Charles Sturt University | H5: Bull Sale Date:
F6: Wagga Wagga, NSW, 2678 | H6: Parcel Tracking #:
E7: Billing Email: | F7: registrar@genetichub.com.au | H7: Collection Date:
A8: Member Email: | E8: Billing Phone: | F8: 02 6933 1214
A9: Member Phone Number: | E9: ABN: | F9: 35 521 813 592
B10: Member ID:
B12: Please send samples to: | F12: Please email a copy of this form to samples@xytovet.com.au
B13: XytoVet | F13: *Failure to provide complete details may result in an additional charge for administration.
B14: Unit 3, Enterprise 1, 9 Brodie-Hall Drive | F14: Please ensure you include your name with your samples when posting to us.
B15: BENTLEY WA 6102 | F15: Please avoid posting TSUs in paper envelopes.
F16: We can supply TSU racks. We also have a Rack Return policy if you wish for us to send the racks back to you for future use. For more information, please contact us.
A19: Order Summary
A20: Species: | D20: Test Required: | H20: Number of Samples:
A21: Bovine | D21: Click to Select Test
A23: *Lab use only - XYTO number | B23: TSU ID | C23: Visual ID | D23: Registration Number | E23: EID | F23: M/F | G23: Date of Birth | H23: S = Sire, D = Dam, P = Progeny | I23: Only select if different to order summary | J23: Only select if different to order summary
A24: Sample ID | B24: TSU | C24: Animal ID | D24: Rego Number | E24: ICAR | F24: Sex | G24: DOB | H24: Animal Type | I24: Extra Analysis | J24: Extra Analysis 2 | M24: Scanned
M25: =B25=VLOOKUP(B25,'Step 1. Rack Scan List'!B:B,1,FALSE) -> #N/A
M26: =B26=VLOOKUP(B26,'Step 1. Rack Scan List'!B:B,1,FALSE) -> #N/A
M27: =B27=VLOOKUP(B27,'Step 1. Rack Scan List'!B:B,1,FALSE) -> #N/A
M28: =B28=VLOOKUP(B28,'Step 1. Rack Scan List'!B:B,1,FALSE) -> #N/A
M29: =B29=VLOOKUP(B29,'Step 1. Rack Scan List'!B:B,1,FALSE) -> #N/A
M30: =B30=VLOOKUP(B30,'Step 1. Rack Scan List'!B:B,1,FALSE) -> #N/A
M31: =B31=VLOOKUP(B31,'Step 1. Rack Scan List'!B:B,1,FALSE) -> #N/A
M32: =B32=VLOOKUP(B32,'Step 1. Rack Scan List'!B:B,1,FALSE) -> #N/A
M33: =B33=VLOOKUP(B33,'Step 1. Rack Scan List'!B:B,1,FALSE) -> #N/A
M34: =B34=VLOOKUP(B34,'Step 1. Rack Scan List'!B:B,1,FALSE) -> #N/A
M35: =B35=VLOOKUP(B35,'Step 1. Rack Scan List'!B:B,1,FALSE) -> #N/A
M36: =B36=VLOOKUP(B36,'Step 1. Rack Scan List'!B:B,1,FALSE) -> #N/A
... M1397: =B1397=VLOOKUP(B1397,'Step 1. Rack Scan List'!B:B,1,FALSE) -> #N/A

Sheet Nominated SIRES
A1: Nominated SIRES
A2: Please list all previously tested sires that you wish to nominate for parentage verification
A3: Rego Number | B3: ICAR | C3: XytoVet Sample ID

Sheet Nominated DAMS
A1: Nominated DAMS
A2: Please list all previously tested dams that you wish to nominate for parentage verification
A3: Rego Number | B3: ICAR | C3: XytoVet Sample ID

Sheet Step 1. Rack Scan List
A1: Position | B1: ScannedTSU | C1: Plate | E1: Number | F1: In COC
E2: 1 | F2: =B2=VLOOKUP(B2,'Sample Details'!$B$25:$B$2003,1,FALSE) -> #N/A
E3: 2 | F3: =B3=VLOOKUP(B3,'Sample Details'!$B$25:$B$2003,1,FALSE) -> #N/A
E4: 3 | F4: =B4=VLOOKUP(B4,'Sample Details'!$B$25:$B$2003,1,FALSE) -> #N/A
E5: 4 | F5: =B5=VLOOKUP(B5,'Sample Details'!$B$25:$B$2003,1,FALSE) -> #N/A
E6: 5 | F6: =B6=VLOOKUP(B6,'Sample Details'!$B$25:$B$2003,1,FALSE) -> #N/A
E7: 6 | F7: =B7=VLOOKUP(B7,'Sample Details'!$B$25:$B$2003,1,FALSE) -> #N/A
E8: 7 | F8: =B8=VLOOKUP(B8,'Sample Details'!$B$25:$B$2003,1,FALSE) -> #N/A
E9: 8 | F9: =B9=VLOOKUP(B9,'Sample Details'!$B$25:$B$2003,1,FALSE) -> #N/A
E10: 9 | F10: =B10=VLOOKUP(B10,'Sample Details'!$B$25:$B$2003,1,FALSE) -> #N/A
E11: 10 | F11: =B11=VLOOKUP(B11,'Sample Details'!$B$25:$B$2003,1,FALSE) -> #N/A
E12: 11 | F12: =B12=VLOOKUP(B12,'Sample Details'!$B$25:$B$2003,1,FALSE) -> #N/A
E13: 12 | F13: =B13=VLOOKUP(B13,'Sample Details'!$B$25:$B$2003,1,FALSE) -> #N/A
... E1677: 1686 | F1677: =B1677=VLOOKUP(B1677,'Sample Details'!$B$25:$B$2003,1,FALSE) -> #N/A

Sheet Step 2. Discrepancies
